BEGIN:VCALENDAR
VERSION:2.0
PRODID:-//Canadian Fitness Education Services - ECPv6.15.20//NONSGML v1.0//EN
CALSCALE:GREGORIAN
METHOD:PUBLISH
X-ORIGINAL-URL:https://canadianfitness.net
X-WR-CALDESC:Events for Canadian Fitness Education Services
REFRESH-INTERVAL;VALUE=DURATION:PT1H
X-Robots-Tag:noindex
X-PUBLISHED-TTL:PT1H
BEGIN:VTIMEZONE
TZID:America/Vancouver
BEGIN:DAYLIGHT
TZOFFSETFROM:-0800
TZOFFSETTO:-0700
TZNAME:PDT
DTSTART:20200308T100000
END:DAYLIGHT
BEGIN:STANDARD
TZOFFSETFROM:-0700
TZOFFSETTO:-0800
TZNAME:PST
DTSTART:20201101T090000
END:STANDARD
BEGIN:DAYLIGHT
TZOFFSETFROM:-0800
TZOFFSETTO:-0700
TZNAME:PDT
DTSTART:20210314T100000
END:DAYLIGHT
BEGIN:STANDARD
TZOFFSETFROM:-0700
TZOFFSETTO:-0800
TZNAME:PST
DTSTART:20211107T090000
END:STANDARD
BEGIN:DAYLIGHT
TZOFFSETFROM:-0800
TZOFFSETTO:-0700
TZNAME:PDT
DTSTART:20220313T100000
END:DAYLIGHT
BEGIN:STANDARD
TZOFFSETFROM:-0700
TZOFFSETTO:-0800
TZNAME:PST
DTSTART:20221106T090000
END:STANDARD
BEGIN:DAYLIGHT
TZOFFSETFROM:-0800
TZOFFSETTO:-0700
TZNAME:PDT
DTSTART:20230312T100000
END:DAYLIGHT
BEGIN:STANDARD
TZOFFSETFROM:-0700
TZOFFSETTO:-0800
TZNAME:PST
DTSTART:20231105T090000
END:STANDARD
END:VTIMEZONE
BEGIN:VEVENT
DTSTART;TZID=America/Vancouver:20221002T160000
DTEND;TZID=America/Vancouver:20221013T213000
DTSTAMP:20260423T115139
CREATED:20220202T184227Z
LAST-MODIFIED:20220917T052153Z
UID:531-1664726400-1665696600@canadianfitness.net
SUMMARY:CFES Fitness Knowledge Course
DESCRIPTION:CFES Fitness Knowledge Course\nThe CFES Fitness Knowledge course acts as the prerequisite to all CFES instructor courses and is the first step in becoming a nationally-certified CFES Weight Training Instructor\, Group Fitness Instructor\, Aquafit Instructor\, Active Aging Instructor or Personal Trainer. \nIn The Course You Will Learn: \n\nAll about your bones and muscles and how they function in exercise and basic movement;\nAbout your heart and lungs and how to care for them;\nHow to burn fat\, shape and tone muscle;\nExercise physiology for strength\, flexibility and cardiorespiratory endurance;\nThe principles of exercise safety;\nBasic nutrition guidelines and weight management principles;\nTeaching approaches for the adult learner.\n\nPrerequisite: None \nCourse Conductor: Melissa Gresley-Jones\, B. Ed.\, CFES Educator \nLocation: The Nadi Tree\, 419 Rossland Ave. Trail BC \nDates & Times:\n\n\nOctober 2\, 4\, 6\, 9\, 11\, 13\nTue Thu 4:00p – 9:00pm\nSun 9:00 am – 4;00 pm\n\n\n\n\nCourse Fee: $500.00 \n\nLocation:\n\nThe Nadi Tree\n419 Rossland Ave.\nTrail BC\n\nRegistration: thenaditree.com/workshops \n\n 
URL:https://canadianfitness.net/event/cfes-fitness-knowledge-course-4/
LOCATION:The Nadi Tree\, 419 Rossland Ave\, Trail\, British Columbia\, Canada
CATEGORIES:Fitness Knowledge Courses
END:VEVENT
BEGIN:VEVENT
DTSTART;TZID=America/Vancouver:20220707T173000
DTEND;TZID=America/Vancouver:20220709T173000
DTSTAMP:20260423T115139
CREATED:20220506T170822Z
LAST-MODIFIED:20220506T171210Z
UID:1112-1657215000-1657387800@canadianfitness.net
SUMMARY:CFES Fitness Knowledge Course
DESCRIPTION:CFES Fitness Knowledge Course \nThe CFES Fitness Knowledge (Fitness Theory) classroom course\, or home study version\, acts as the prerequisite to all CFES instructor courses and is the first step in becoming a nationally-certified CFES Weight Training Instructor\, Group Fitness Instructor\, Aquafit Instructor\, Active Aging Instructor or Personal Trainer. \nIn The Course You Will Learn: \n\nAll about your bones and muscles and how they function in exercise and basic movement;\nAbout your heart and lungs and how to care for them;\nHow to burn fat\, shape and tone muscle;\nExercise physiology for strength\, flexibility and cardiorespiratory endurance;\nThe principles of exercise safety;\nBasic nutrition guidelines and weight management principles;\nTeaching approaches for the adult learner.\n\nPrerequisite: None \nCourse Conductor:\nMonica Thomson\, HFC\, CFES Educator\nPersonal Trainer & MAT (Muscle Activation) Certified Specialist\nFunctional Movement Screen (FMS)\, Level I and II\n604-808-9471 \nDates & Times:\n\n\nTuesday July 7 and 14 – 5:30pm-9:30pm\nThursday 12 and 19 – 5:30pm-9:30pm\nSaturday July 9 – 9:00am-5:30pm \n\n\nLocation:\nNorth Delta Recreation Centre\n\nRegistration: Course #526736\n• www.delta.ca/deltareg (with course number above)\n• Registration Call Centre at 604-952-3000 or\n• In person at recreation and cultural facilities
URL:https://canadianfitness.net/event/cfes-fitness-knowledge-course-7/
LOCATION:North Delta Recreation Centre\, 11415 84th Avenue\, Delta\, British Columbia\, V4C 2L9\, Canada
CATEGORIES:Fitness Knowledge Courses
END:VEVENT
BEGIN:VEVENT
DTSTART;TZID=America/Vancouver:20220405T173000
DTEND;TZID=America/Vancouver:20220414T213000
DTSTAMP:20260423T115139
CREATED:20220301T202815Z
LAST-MODIFIED:20220301T202947Z
UID:943-1649179800-1649971800@canadianfitness.net
SUMMARY:CFES Fitness Knowledge Course
DESCRIPTION:The CFES Fitness Knowledge (Fitness Theory) classroom course\, or home study version\, acts as the prerequisite to all CFES instructor courses and is the first step in becoming a nationally-certified CFES Weight Training Instructor\, Group Fitness Instructor\, Aquafit Instructor\, Active Aging Instructor or Personal Trainer. \nIn The Course You Will Learn: \n\nAll about your bones and muscles and how they function in exercise and basic movement;\nAbout your heart and lungs and how to care for them;\nHow to burn fat\, shape and tone muscle;\nExercise physiology for strength\, flexibility and cardiorespiratory endurance;\nThe principles of exercise safety;\nBasic nutrition guidelines and weight management principles;\nTeaching approaches for the adult learner.\n\nPrerequisite: None \nCourse Conductor:\nMonica Thomson\, HFC\, CFES Educator\nPersonal Trainer & MAT (Muscle Activation) Certified Specialist\nFunctional Movement Screen (FMS)\, Level I and II\n604-808-9471 \nDates & Times:\n\n\nApril 5\, 7\, 12\, 14 – 5:30 pm – 9:30 pm\nApril 9   8:30 am – 5:00 pm\n\n\n\nLocation:\nNorth Delta Recreation Centre\n\nRegistration: Course #525039\n• www.delta.ca/deltareg (with course number above)\n• Registration Call Centre at 604-952-3000 or\n• In person at recreation and cultural facilities
URL:https://canadianfitness.net/event/cfes-fitness-knowledge-course-5/
LOCATION:North Delta Recreation Centre\, 11415 84th Avenue\, Delta\, British Columbia\, V4C 2L9\, Canada
CATEGORIES:Fitness Knowledge Courses
END:VEVENT
BEGIN:VEVENT
DTSTART;TZID=America/Vancouver:20220118T173000
DTEND;TZID=America/Vancouver:20220122T170000
DTSTAMP:20260423T115139
CREATED:20211220T235100Z
LAST-MODIFIED:20211220T235552Z
UID:460-1642527000-1642870800@canadianfitness.net
SUMMARY:CFES Fitness Knowledge Course
DESCRIPTION:CFES Fitness Knowledge Course\nIn The Course You Will Learn: \n\nAll about your bones and muscles and how they function in exercise and basic movement;\nAbout your heart and lungs and how to care for them;\nHow to burn fat\, shape and tone muscle;\nExercise physiology for strength\, flexibility and cardiorespiratory endurance;\nThe principles of exercise safety;\nBasic nutrition guidelines and weight management principles;\nTeaching approaches for the adult learner.\n\nPrerequisite: None \nCourse Conductor: Monica Thomspn\, HFC\, CFES Educator \nLocation:\nNorth Delta Recreation Centre\n11415 84th Avenue\, Delta\, B.C.\, V4C 2L9 \nDates & Times:\n\n\nTuesday January 18\, 25   5:30 pm – 9:30 pm\nThursday January 20\, 27   5:30 pm – 9:30 pm\nSaturday January 22          8:30 am – 5:00 pm \n\n\nCourse Fee: $325.00 + $85.00 (manual and workbook) + taxes\nTo register:\nDeltareg.ca or call 604-952-3000\nReg# 518087 \n 
URL:https://canadianfitness.net/event/460/
LOCATION:North Delta Recreation Centre\, 11415 84th Avenue\, Delta\, British Columbia\, V4C 2L9\, Canada
CATEGORIES:Fitness Knowledge Courses
END:VEVENT
BEGIN:VEVENT
DTSTART;VALUE=DATE:20211124
DTEND;VALUE=DATE:20211212
DTSTAMP:20260423T115139
CREATED:20211119T074029Z
LAST-MODIFIED:20211119T080153Z
UID:223-1637769600-1639238399@canadianfitness.net
SUMMARY:CFES Fitness Knowledge Course
DESCRIPTION:
URL:https://canadianfitness.net/event/cfes-fitness-knowledge-course/
LOCATION:Eastside Fitness\, 5788 Fraser Street\, Vancouver\, BC\, Canada
CATEGORIES:Fitness Knowledge Courses
END:VEVENT
END:VCALENDAR