BEGIN:VCALENDAR
VERSION:2.0
PRODID:-//Canadian Fitness Education Services - ECPv6.15.20//NONSGML v1.0//EN
CALSCALE:GREGORIAN
METHOD:PUBLISH
X-ORIGINAL-URL:https://canadianfitness.net
X-WR-CALDESC:Events for Canadian Fitness Education Services
REFRESH-INTERVAL;VALUE=DURATION:PT1H
X-Robots-Tag:noindex
X-PUBLISHED-TTL:PT1H
BEGIN:VTIMEZONE
TZID:America/Vancouver
BEGIN:DAYLIGHT
TZOFFSETFROM:-0800
TZOFFSETTO:-0700
TZNAME:PDT
DTSTART:20240310T100000
END:DAYLIGHT
BEGIN:STANDARD
TZOFFSETFROM:-0700
TZOFFSETTO:-0800
TZNAME:PST
DTSTART:20241103T090000
END:STANDARD
BEGIN:DAYLIGHT
TZOFFSETFROM:-0800
TZOFFSETTO:-0700
TZNAME:PDT
DTSTART:20250309T100000
END:DAYLIGHT
BEGIN:STANDARD
TZOFFSETFROM:-0700
TZOFFSETTO:-0800
TZNAME:PST
DTSTART:20251102T090000
END:STANDARD
BEGIN:DAYLIGHT
TZOFFSETFROM:-0800
TZOFFSETTO:-0700
TZNAME:PDT
DTSTART:20260308T100000
END:DAYLIGHT
BEGIN:STANDARD
TZOFFSETFROM:-0700
TZOFFSETTO:-0800
TZNAME:PST
DTSTART:20261101T090000
END:STANDARD
BEGIN:DAYLIGHT
TZOFFSETFROM:-0800
TZOFFSETTO:-0700
TZNAME:PDT
DTSTART:20270314T100000
END:DAYLIGHT
BEGIN:STANDARD
TZOFFSETFROM:-0700
TZOFFSETTO:-0800
TZNAME:PST
DTSTART:20271107T090000
END:STANDARD
BEGIN:DAYLIGHT
TZOFFSETFROM:-0800
TZOFFSETTO:-0700
TZNAME:PDT
DTSTART:20280312T100000
END:DAYLIGHT
BEGIN:STANDARD
TZOFFSETFROM:-0700
TZOFFSETTO:-0800
TZNAME:PST
DTSTART:20281105T090000
END:STANDARD
BEGIN:DAYLIGHT
TZOFFSETFROM:-0800
TZOFFSETTO:-0700
TZNAME:PDT
DTSTART:20290311T100000
END:DAYLIGHT
BEGIN:STANDARD
TZOFFSETFROM:-0700
TZOFFSETTO:-0800
TZNAME:PST
DTSTART:20291104T090000
END:STANDARD
END:VTIMEZONE
BEGIN:VEVENT
DTSTART;TZID=America/Vancouver:20250819T080000
DTEND;TZID=America/Vancouver:20270131T170000
DTSTAMP:20260423T115856
CREATED:20250621T032044Z
LAST-MODIFIED:20260122T221403Z
UID:3090-1755590400-1801414800@canadianfitness.net
SUMMARY:CFES Fitness Knowledge Home Study Program
DESCRIPTION:CFES Fitness Knowledge Home Study Program\nThe CFES Fitness Knowledge Home Study Program serves as a prerequisite for all CFES instructor courses and is the first step toward becoming a certified CFES Active Aging Instructor\, Aquafit Instructor\, Group Fitness Instructor\, Weight Training Instructor\, or Personal Trainer. \nThe Fitness Knowledge Home Study Program includes traditional physical copy resources and online learning courseware — including more than 100 full-colour anatomical illustrations and 25 animations of the skeletal system\, joint actions and muscle groups; demonstrations of the cardiovascular system; more than 100 video clips demonstrating exercises for strength\, endurance and flexibility; plus many full-colour charts and tables; full course text and chapter quizzes. High-speed internet access is necessary for the online components of the course.\n\n \nTo register for the CFES Fitness Knowledge Home Study Program click here . You will be directed to the CFES Web Store Home Study e-commerce registration page. Follow the instructions to complete the order \n*CFES Fitness Knowledge Home Study Program Registration Fee: $325.00 Cdn. (+ shipping/applicable taxes). Includes the physical copy CFES Fitness Knowledge Course student manual and home study student program work booklet/study guide; online e-learning courseware; phone and/or email tutor service; first marking of the end of course open book exam; and electronic Record of Course Completion. \n*E-version Only CFES Fitness Knowledge Home Study Program Registration Fee: $275.00 Cdn. (+ applicable taxes:) Includes online e-learning courseware; a PDF e-version of the home study student program work booklet/study guide and open book exam; email/phone tutor service; first marking of end of course open book exam; and electronic Record of Course Completion. No physical copy resources provided. \n*These materials contain all the information needed to successfully complete this distance education version of the classroom course. \nStudents progress through the course chapter by chapter\, using the study guide and online courseware resources. Each chapter features a variety of quizzes\, learning tools\, and activities to reinforce key concepts. \nTutor assistance is provided toll free or via email. Depending on prior knowledge and experience\, students typically spend between 30 and 50 hours to complete the course and the open-book exam. \nTo finish the program\, students must complete and submit the end-of-course open-book exam for marking. Exams are normally graded and returned within three weeks of receipt. Students have one year from the date of registration to complete the program. \nUpon enrolment\, you will receive email confirmation and access to the online courseware within 24 hours. Your physical copy student manual and work booklet/study guide will be shipped via Canada Post Xpresspost. \nFor assistance\, you can email\, call toll-free at 1-877-494-5355 (11:00 am–3:00 pm Pacific Time)\, or mail your registration fee by cheque or money order. \nTo register for the CFES Fitness Knowledge Home Study Program click here . You will be directed to the CFES Web Store Home Study e-commerce registration page. Follow the instructions to complete the order
URL:https://canadianfitness.net/event/cfes-fitness-knowledge-home-study-program-2/
LOCATION:Hybrid Online
CATEGORIES:Fitness Knowledge Courses,Fitness Knowledge Homestudy,Hybrid Online
END:VEVENT
BEGIN:VEVENT
DTSTART;TZID=America/Vancouver:20260101T080000
DTEND;TZID=America/Vancouver:20280919T170000
DTSTAMP:20260423T115856
CREATED:20220415T052757Z
LAST-MODIFIED:20260122T221316Z
UID:1081-1767254400-1852995600@canadianfitness.net
SUMMARY:Ongoing CFES Fitness Knowledge Home Study Program — Enrol anytime
DESCRIPTION:Ongoing CFES Fitness Knowledge Home Study Program\nLike the classroom course\, the CFES Fitness Knowledge Home Study Program acts as a prerequisite to all instructor courses and is the first step in becoming a certified CFES Active Aging Instructor\, Aquafit Instructor\, Group Fitness Instructor\, Weight Training Instructor or Personal Trainer. \nThe Fitness Knowledge Home Study Program includes traditional hard copy resources and online learning supplemental courseware — including more than 100 full-colour anatomical illustrations and 25 animations of the skeletal system\, joint actions and muscle groups; demonstrations of the cardiovascular system; more than 100 video clips demonstrating exercises for strength\, endurance and flexibility; plus many full-colour charts and tables; full course text and chapter quizzes. E-version only available. High-speed internet access is necessary for the online components of the course. \nTo register for the CFES Fitness Knowledge Home Study Program click here . You will be directed to the CFES Web Store Home Study e-commerce registration page. Follow the instructions to complete the order \nThe CFES Fitness Knowledge Course Student Manual and Home Study Student Program Work Booklet/Study Guide and online supplemental e-learning courseware contain all the necessary information for the student to successfully complete this distant education version of the CFES Fitness Knowledge classroom course. \nStudents work their way through the course in an easy chapter by chapter progressive format\, utilizing the home study student program booklet/study guide and supplemental online e-learning courseware. Each chapter in the course has a variety of quizzes\, learning tools and activities. \nTutor assistance is provided toll free or via email. Students normally spend between 30-50 hours to complete the home study course and open book exam\, depending on knowledge and experience background. \nStudents must complete the end of course open book exam and submit for marking.  Exams are marked and returned within three weeks of the receiving date. \nStudents have one year from course registration to complete the program. \nYou will receive email confirmation of registration and online courseware access within 24 hours. Your hard copy student manual and home study program work booklet will be shipped to you via Canada Post Xpresspost.  You can also email us\, call toll free 1-877-494-5355 between 10:00 am and 4:00 pm Pacific time or mail us your registration fee by cheque or money order. \nTo register for the CFES Fitness Knowledge Home Study Program click here . You will be directed to the CFES Web Store Home Study e-commerce registration page. Follow the instructions to complete the order
URL:https://canadianfitness.net/event/cfes-fitness-knowledge-home-study-program/
LOCATION:Online
CATEGORIES:CFES Online Courses + Workshops,Fitness Knowledge Courses,Fitness Knowledge Homestudy
ORGANIZER;CN="Canadian Fitness Education Services":MAILTO:cfes@telus.net
END:VEVENT
END:VCALENDAR