BEGIN:VCALENDAR
VERSION:2.0
PRODID:-//Canadian Fitness Education Services - ECPv6.15.20//NONSGML v1.0//EN
CALSCALE:GREGORIAN
METHOD:PUBLISH
X-ORIGINAL-URL:https://canadianfitness.net
X-WR-CALDESC:Events for Canadian Fitness Education Services
REFRESH-INTERVAL;VALUE=DURATION:PT1H
X-Robots-Tag:noindex
X-PUBLISHED-TTL:PT1H
BEGIN:VTIMEZONE
TZID:America/Vancouver
BEGIN:DAYLIGHT
TZOFFSETFROM:-0800
TZOFFSETTO:-0700
TZNAME:PDT
DTSTART:20250309T100000
END:DAYLIGHT
BEGIN:STANDARD
TZOFFSETFROM:-0700
TZOFFSETTO:-0800
TZNAME:PST
DTSTART:20251102T090000
END:STANDARD
BEGIN:DAYLIGHT
TZOFFSETFROM:-0800
TZOFFSETTO:-0700
TZNAME:PDT
DTSTART:20260308T100000
END:DAYLIGHT
BEGIN:STANDARD
TZOFFSETFROM:-0700
TZOFFSETTO:-0800
TZNAME:PST
DTSTART:20261101T090000
END:STANDARD
BEGIN:DAYLIGHT
TZOFFSETFROM:-0800
TZOFFSETTO:-0700
TZNAME:PDT
DTSTART:20270314T100000
END:DAYLIGHT
BEGIN:STANDARD
TZOFFSETFROM:-0700
TZOFFSETTO:-0800
TZNAME:PST
DTSTART:20271107T090000
END:STANDARD
END:VTIMEZONE
BEGIN:VEVENT
DTSTART;TZID=America/Vancouver:20260414T183000
DTEND;TZID=America/Vancouver:20260425T123000
DTSTAMP:20260423T102554
CREATED:20220301T204938Z
LAST-MODIFIED:20260320T171630Z
UID:947-1776191400-1777120200@canadianfitness.net
SUMMARY:CFES Weight Training Instructor Course
DESCRIPTION:The brand new Weight Training Certification Course covers theory and the required practical components through demonstrative videos needed for becoming a Weight Training Instructor.  This is the second step to becoming a certified Personal Trainer. \nTopics include theory review\, program design\, instruction and counselling\, safety and injury prevention\, special populations\, nutrition\, exercise equipment and proper technique.  The CFES Weight Training Instructor Manual and Program Booklet will be used and this entire course will be held online via Zoom. \nCost: $385.00 plus course resources\, tax included \n\nPrerequisite:\nCFES Fitness Fitness Knowledge Course\, or equivalency \n\nLocation: Zoom Video App – Download Zoom \n\nDates & Times: \nTuesday\, April 14 – 6:30pm-9:30pm\nThursday\, April 16 – 6:30pm-9:30pm\nSaturday\, April 18 – 9:30am-12:30pm\nTuesday\, April 21 – 6:30pm-9:30pm\nThursday\, April 23 – 6:30pm-9:30pm\nSaturday\, April 25 – 9:30am-12:30pm\n\nFor more info: Veronika Glesc @ Inshape Training\nPhone: 1 604 879-5500\nEmail:  info@inshapetraining.net
URL:https://canadianfitness.net/event/cfes-weight-training-instructor-course-4/
LOCATION:Hybrid Online
CATEGORIES:Weight Training Instructor Certification Courses
ORGANIZER;CN="Inshape Training":MAILTO:info@inshapetraining.net
END:VEVENT
BEGIN:VEVENT
DTSTART;TZID=America/Vancouver:20260712T080000
DTEND;TZID=America/Vancouver:20260726T180000
DTSTAMP:20260423T102554
CREATED:20260312T213223Z
LAST-MODIFIED:20260312T214503Z
UID:3487-1783843200-1785088800@canadianfitness.net
SUMMARY:CFES Weight Training Instructor Course
DESCRIPTION:CFES Weight Training Instructor Course\nThe CFES Weight Training Instructor Course is a practical course designed to teach foundation leadership skills for instruction of basic weight training programs and enable candidates to become nationally certified Weight Training Instructors \nCFES Weight Training Instructor Certification Program Content\nIn this course you will learn:\n• About the weight training industry\, equipment usage and facilities\n• Exercise ideas and teaching techniques to be able to set up a program for a variety of ages\, stages and special needs groups\n• A review of anatomy and physiology\n• Health screening and fitness testing\n• Counseling and communication skills practiced\n• The application of scientific training principles\n• Nutrition\, supplements\n• Professional ethics and career direction.\nPrerequisite: CFES Fitness Knowledge Course or equivalency \nCourse Conductor:  Todd Fontaine\, CFES Educator \nLocation:\nSweatworking Collective\n#108 – 950 W Broadway\nVancouver\, BC V6H 1G5 \nDates & Times:\nJuly 12th\, 19th and 26th 8:00 am – 6:00 pm \nRegistration:\nTodd Fontaine\nPhone: 604-556-1964\nEmail: tyq7am@live.ca\nWebsite: www.fontaine-fitness.com \n 
URL:https://canadianfitness.net/event/cfes-weight-training-instructor-course-10/
LOCATION:Sweatworking Collective\, 108 - 950 W Broadway\, Vancouver\, British Columbia\, V6H 1G5\, Canada
CATEGORIES:Weight Training Instructor Certification Courses
ATTACH;FMTTYPE=image/jpeg:https://canadianfitness.net/wp-content/uploads/2026/03/Sweatworking-Collective.jpg
END:VEVENT
END:VCALENDAR