BEGIN:VCALENDAR
VERSION:2.0
PRODID:-//Canadian Fitness Education Services - ECPv6.15.20//NONSGML v1.0//EN
CALSCALE:GREGORIAN
METHOD:PUBLISH
X-WR-CALNAME:Canadian Fitness Education Services
X-ORIGINAL-URL:https://canadianfitness.net
X-WR-CALDESC:Events for Canadian Fitness Education Services
REFRESH-INTERVAL;VALUE=DURATION:PT1H
X-Robots-Tag:noindex
X-PUBLISHED-TTL:PT1H
BEGIN:VTIMEZONE
TZID:America/Vancouver
BEGIN:DAYLIGHT
TZOFFSETFROM:-0800
TZOFFSETTO:-0700
TZNAME:PDT
DTSTART:20250309T100000
END:DAYLIGHT
BEGIN:STANDARD
TZOFFSETFROM:-0700
TZOFFSETTO:-0800
TZNAME:PST
DTSTART:20251102T090000
END:STANDARD
BEGIN:DAYLIGHT
TZOFFSETFROM:-0800
TZOFFSETTO:-0700
TZNAME:PDT
DTSTART:20260308T100000
END:DAYLIGHT
BEGIN:STANDARD
TZOFFSETFROM:-0700
TZOFFSETTO:-0800
TZNAME:PST
DTSTART:20261101T090000
END:STANDARD
BEGIN:DAYLIGHT
TZOFFSETFROM:-0800
TZOFFSETTO:-0700
TZNAME:PDT
DTSTART:20270314T100000
END:DAYLIGHT
BEGIN:STANDARD
TZOFFSETFROM:-0700
TZOFFSETTO:-0800
TZNAME:PST
DTSTART:20271107T090000
END:STANDARD
END:VTIMEZONE
BEGIN:VEVENT
DTSTART;TZID=America/Vancouver:20260623T173000
DTEND;TZID=America/Vancouver:20260709T183000
DTSTAMP:20260423T121009
CREATED:20220207T070839Z
LAST-MODIFIED:20260420T204823Z
UID:548-1782235800-1783621800@canadianfitness.net
SUMMARY:Scheduled Online CFES Group Fitness Instructor Course
DESCRIPTION:Online CFES Group Fitness Instructor Course\n\nThis course is designed to teach foundation knowledge and instructor skills to successfully complete CFES Group Fitness Instructor certification — enabling you to program and lead basic group fitness exercise classes. Ample practicum opportunities are provided. \nCFES Group Fitness Instructor Course Content\nThe ONLINE Group Fitness Certification Course covers the practical components and additional theory needed to become a certified Group Fitness Instructor.  There are 6 Online classes that will take place through the Zoom video app so please download the latest version and become familiar with it. \nTopics include exercise ideas\, choreography\, cueing\, music\, safety\, lesson planning\, class components and leadership skills.  This course is fun and very active so students should be prepared to move.   Everyone is encouraged to explore different styles of teaching and will work on creating their own routines.  In order to maximize learning and provide adequate practice time\, this course is spread out over two weeks to guarantee excellent results! \nPrerequisite: CFES Fitness Knowledge Course or equivalency \nCourse Conductor: Veronika Olson\, HFC\, CFES Educator \nCost: $369.00 (plus course resource fees of $81.00 +tax) \nCourse Dates & Times: \nJune 23 to July 9 – REGISTER HERE \n\nTuesday\, June 23 – 5:30pm-8:30pm\nThursday\, June 25 – 5:30pm-8:30pm\nTuesday\, June 30 – 5:30pm-8:30pm\nThursday\, July 2 – 5:30pm-8:30pm\nTuesday\, July 7 – 5:30pm-8:30pm\nThursday\, July 9 – 5:30pm-6:30pm\n\n  \nLocation: Zoom Video App – Download Zoom \n\nFor more info: Veronika Glesc @ Inshape Training\nPhone: 1 604 879-5500\nEmail:  info@inshapetraining.net\nTo register: Inshape Training\nhttp://register.inshapetraining.net/programdesignandperiodizationworkshopjan2310andjan3010.aspx
URL:https://canadianfitness.net/event/cfes-group-fitness-instructor-course-2/
LOCATION:Hybrid Online
CATEGORIES:Group Fitness Instructor Certification,Hybrid Online
ORGANIZER;CN="Inshape Training":MAILTO:info@inshapetraining.net
END:VEVENT
END:VCALENDAR