BEGIN:VCALENDAR
VERSION:2.0
PRODID:-//Canadian Fitness Education Services - ECPv6.15.20//NONSGML v1.0//EN
CALSCALE:GREGORIAN
METHOD:PUBLISH
X-WR-CALNAME:Canadian Fitness Education Services
X-ORIGINAL-URL:https://canadianfitness.net
X-WR-CALDESC:Events for Canadian Fitness Education Services
REFRESH-INTERVAL;VALUE=DURATION:PT1H
X-Robots-Tag:noindex
X-PUBLISHED-TTL:PT1H
BEGIN:VTIMEZONE
TZID:America/Vancouver
BEGIN:DAYLIGHT
TZOFFSETFROM:-0800
TZOFFSETTO:-0700
TZNAME:PDT
DTSTART:20240310T100000
END:DAYLIGHT
BEGIN:STANDARD
TZOFFSETFROM:-0700
TZOFFSETTO:-0800
TZNAME:PST
DTSTART:20241103T090000
END:STANDARD
BEGIN:DAYLIGHT
TZOFFSETFROM:-0800
TZOFFSETTO:-0700
TZNAME:PDT
DTSTART:20250309T100000
END:DAYLIGHT
BEGIN:STANDARD
TZOFFSETFROM:-0700
TZOFFSETTO:-0800
TZNAME:PST
DTSTART:20251102T090000
END:STANDARD
BEGIN:DAYLIGHT
TZOFFSETFROM:-0800
TZOFFSETTO:-0700
TZNAME:PDT
DTSTART:20260308T100000
END:DAYLIGHT
BEGIN:STANDARD
TZOFFSETFROM:-0700
TZOFFSETTO:-0800
TZNAME:PST
DTSTART:20261101T090000
END:STANDARD
BEGIN:DAYLIGHT
TZOFFSETFROM:-0800
TZOFFSETTO:-0700
TZNAME:PDT
DTSTART:20270314T100000
END:DAYLIGHT
BEGIN:STANDARD
TZOFFSETFROM:-0700
TZOFFSETTO:-0800
TZNAME:PST
DTSTART:20271107T090000
END:STANDARD
BEGIN:DAYLIGHT
TZOFFSETFROM:-0800
TZOFFSETTO:-0700
TZNAME:PDT
DTSTART:20280312T100000
END:DAYLIGHT
BEGIN:STANDARD
TZOFFSETFROM:-0700
TZOFFSETTO:-0800
TZNAME:PST
DTSTART:20281105T090000
END:STANDARD
END:VTIMEZONE
BEGIN:VEVENT
DTSTART;VALUE=DATE:20251231
DTEND;VALUE=DATE:20271212
DTSTAMP:20260425T065523
CREATED:20211204T062108Z
LAST-MODIFIED:20260122T220904Z
UID:380-1767196800-1828540799@canadianfitness.net
SUMMARY:Ongoing Active Aging Instructor Online Courses
DESCRIPTION:Ongoing Active Aging Instructor Online Courses\nTHREE COURSE CHOICES TO CHOOSE FROM\nEquivalencies to CFES Active Aging Instructor Course\nOffered by CFES-recognized presenters Brenda Adams\, Melanie Galloway and Bill Luke\n \nPREREQUISITE: CFES certified Fitness Instructor in any designation or CFES Personal Trainer certification.\nCREDITS: These courses are recognized for 16 CFES Continuing Education Credits (CECs). \nCandidates completing course exam and skills assessment and CFES certification application also receive CFES Active Aging Instructor certification designation. \nDates: Ongoing. These courses are done at your convenience. The recommendation is to complete it within 90 days.\n \nHow: Computer. You can receive all the notes and lecture material for each section by email or on a usb. \n\n\n\nOlder Adults Instructor Online Course\n\nCourse Conductor: Melanie Galloway\, B.Sc.\, A.C.E. Certified Medical Exercise Specialist \nThis course can be started at any time and covers the same content as the classroom course. \nIt offers 20 CECs. \nThe course prepares students to write the CFES exam and skills assessment. \nAll reading materials are provided. \nCourse Content:\n \n\nOverview of Aging and Physical Activity\n\nPsychological\, Sociological and Physiological aspects of activity for Older Adults\n\nScreening\, Assessment and Goal Setting\n\nProgram Design and Management for Older Adults With Stable Medical Conditions\n\nTeaching and Leadership Skills\nCommunication and Marketing Guidelines\n\nClient Safety and First Aid\n\nEthics and Professional Conduct\n\nCost: Contact Melanie  \nExpectations: There are nine (9) sections; each with a quiz and four (4) assignments to complete. CFES Fitness Instructors and Personal Trainers must complete an exam and instructor skills assessment for certification designation. \nContact Melanie directly by email: Melanie@growingstrong.ca \nWebsite: growingstrong.ca\nOlder Adults Fitness Leader Home Study/Online Course \n \nCourse Conductor: Dr. Bill Luke \nThis Home Study/Online Course will look at the special factors which influence 3rd age physical fitness and health. \nThis course prepares  fitness leaders for successful expansion of their fitness business to include older adults. \nCourse Content: Anatomical\, physiological\, emotional\, social \, nutritional\, program design\, exercise modifications\, health impact on activity and  much\, much more. \nThe workbook  and quizzes must be completed and returned for assessment. \nA 80% mark on all quizzes and workbook must be attained in addition to successfully passing the CFES examination and Active Aging Instructor Skills Assessment for certification.\n\nThis course can be started at any time and uses the same textbook as in the classroom course and offers 16 CECs and additional CFES certification designation\n \n\nCost: $229.00 \n(This fee includes workbook\, quizzes & exercise modification assignment.)* \nRegistration: online at www.DrLukeFitnessandHealth.ca\n\nEmail: bluke@twu.ca or \nPhone: 604-785-7621\n\nAging Actively Instructor Online Course \nThis course will prepare you to work with the older adult population in all of those settings. \nCourse Conductor: Brenda Adams\, M.Ed.\, B.Sc. (kinesiology)\, CPCC \n \nWhile this is an online course you will have the ability to tailor how you apply what you learn to the specific areas where you teach/train. No generic\, cookie cutter course here my friends! \nIndividual Attention — We use a combination of an online platform with individual video conferencing so there is truly a personal experience. \nIndustry Leading Content — We use the ACE Senior Fitness Manual in this course (you will need to purchase this directly from ACE – don’t worry we will give you the link – $59.99 USD). We went this route instead of writing our own manual as we wanted to ensure that the manual was always up to date with the latest research and best practices. Who better to do that than an international organization with an entire academic team behind them? \nThe other amazing part? You can choose to purchase an old school paper manual or an e-book. We do everything we can to provide options for all learning styles.\n.\nCost: $299.00 \nContact Brenda directly by email: brenda@brenda-adams.com\nPhone: 778-822-6224|\nWebsite: Older Adults Instructor Course Brenda Adams
URL:https://canadianfitness.net/event/active-aging-instructor-online-courses/
LOCATION:Online
CATEGORIES:CFES Fitness Instructor + Personal Trainer Recertification CEC Workshops,CFES Online Courses + Workshops
ORGANIZER;CN="Canadian Fitness Education Services":MAILTO:cfes@telus.net
END:VEVENT
END:VCALENDAR